BEGIN:VCALENDAR
VERSION:2.0
PRODID:-//PEM Incorporated - ECPv6.15.20//NONSGML v1.0//EN
CALSCALE:GREGORIAN
METHOD:PUBLISH
X-ORIGINAL-URL:https://pemequip.com
X-WR-CALDESC:Events for PEM Incorporated
REFRESH-INTERVAL;VALUE=DURATION:PT1H
X-Robots-Tag:noindex
X-PUBLISHED-TTL:PT1H
BEGIN:VTIMEZONE
TZID:America/New_York
BEGIN:DAYLIGHT
TZOFFSETFROM:-0500
TZOFFSETTO:-0400
TZNAME:EDT
DTSTART:20170312T070000
END:DAYLIGHT
BEGIN:STANDARD
TZOFFSETFROM:-0400
TZOFFSETTO:-0500
TZNAME:EST
DTSTART:20171105T060000
END:STANDARD
BEGIN:DAYLIGHT
TZOFFSETFROM:-0500
TZOFFSETTO:-0400
TZNAME:EDT
DTSTART:20180311T070000
END:DAYLIGHT
BEGIN:STANDARD
TZOFFSETFROM:-0400
TZOFFSETTO:-0500
TZNAME:EST
DTSTART:20181104T060000
END:STANDARD
BEGIN:DAYLIGHT
TZOFFSETFROM:-0500
TZOFFSETTO:-0400
TZNAME:EDT
DTSTART:20190310T070000
END:DAYLIGHT
BEGIN:STANDARD
TZOFFSETFROM:-0400
TZOFFSETTO:-0500
TZNAME:EST
DTSTART:20191103T060000
END:STANDARD
END:VTIMEZONE
BEGIN:VEVENT
DTSTART;TZID=America/New_York:20181106T103000
DTEND;TZID=America/New_York:20181108T160000
DTSTAMP:20260424T195243
CREATED:20181004T013150Z
LAST-MODIFIED:20181016T145954Z
UID:3545-1541500200-1541692800@pemequip.com
SUMMARY:FABTECH
DESCRIPTION:North America’s largest metal forming\, fabricating\, welding and finishing event heads to the Georgia World Congress Center in Atlanta in 2018. FABTECH provides a convenient ‘one stop shop’ venue where you can meet with world-class suppliers\, see the latest industry products and developments\, and find the tools to improve productivity\, increase profits and discover new solutions to all of your metal forming\, fabricating\, welding and finishing needs. \n2018 show features for  November 6-8 include new ways to expand your knowledge and ask questions at the Smart Manufacturing Hub and Knowledge Bar and areas to take a break and recharge like the FABTECH Bistro and Blues\, Brews and BBQ. \nPEM Corporation will be at Booth #B4951 and will be introducing their new product—FinFlow—A Complete Start-To-Finish System for Cleaning Coating and Cooking. Learn More
URL:https://pemequip.com/event/fabtech/
LOCATION:Georgia World Congress Center\, 285 Andrew Young International Blvd. NW\, Atlanta\, GA\, 30313
CATEGORIES:Trade Shows
ATTACH;FMTTYPE=image/jpeg:https://pemequip.com/wp-content/uploads/2018/10/FABTECH-2018-event-image.jpg
END:VEVENT
END:VCALENDAR