BEGIN:VCALENDAR
VERSION:2.0
PRODID:-//PEM Incorporated - ECPv6.15.20//NONSGML v1.0//EN
CALSCALE:GREGORIAN
METHOD:PUBLISH
X-ORIGINAL-URL:https://pemequip.com
X-WR-CALDESC:Events for PEM Incorporated
REFRESH-INTERVAL;VALUE=DURATION:PT1H
X-Robots-Tag:noindex
X-PUBLISHED-TTL:PT1H
BEGIN:VTIMEZONE
TZID:America/New_York
BEGIN:DAYLIGHT
TZOFFSETFROM:-0500
TZOFFSETTO:-0400
TZNAME:EDT
DTSTART:20180311T070000
END:DAYLIGHT
BEGIN:STANDARD
TZOFFSETFROM:-0400
TZOFFSETTO:-0500
TZNAME:EST
DTSTART:20181104T060000
END:STANDARD
BEGIN:DAYLIGHT
TZOFFSETFROM:-0500
TZOFFSETTO:-0400
TZNAME:EDT
DTSTART:20190310T070000
END:DAYLIGHT
BEGIN:STANDARD
TZOFFSETFROM:-0400
TZOFFSETTO:-0500
TZNAME:EST
DTSTART:20191103T060000
END:STANDARD
BEGIN:DAYLIGHT
TZOFFSETFROM:-0500
TZOFFSETTO:-0400
TZNAME:EDT
DTSTART:20200308T070000
END:DAYLIGHT
BEGIN:STANDARD
TZOFFSETFROM:-0400
TZOFFSETTO:-0500
TZNAME:EST
DTSTART:20201101T060000
END:STANDARD
END:VTIMEZONE
BEGIN:VEVENT
DTSTART;TZID=America/New_York:20190401T080000
DTEND;TZID=America/New_York:20190404T133000
DTSTAMP:20260424T114225
CREATED:20181023T202646Z
LAST-MODIFIED:20181023T202646Z
UID:4601-1554105600-1554384600@pemequip.com
SUMMARY:Powder Coating 2019 Technical Conference
DESCRIPTION:Powder Coating 2019 Technical Conference is a four-day event includes a two-day tabletop exhibition. Tabletop exhibitors will include powder coating manufacturers\, powder coating application equipment manufacturers\, systems houses\, chemical suppliers and the various services and supplies that support the powder coating industry. \nA conference program designed to educate users of powder coatings is offered over four days: \nApril 1 – 2 \n\nPowder Coating 101 Workshop – Basic Essentials\nCustom Coater Forum\n\nApril 3 – 4 \n\nTechnical Conference & Tabletop Exhibition\n\nTabletop Exhibit hours will be Wednesday\, April 3 from 11:30 am – 1:15 pm and 4:30 – 7:00 pm and Thursday\, April 4 from 11:30 am – 1:30 pm. PEM Corporation will have product on display. Learn More
URL:https://pemequip.com/event/powder-coating-2019-technical-conference/
LOCATION:Renaissance Orlando at SeaWorld®\, 6677 Sea Harbor Dr.\, Orlando\, FL\, 32821\, United States
CATEGORIES:Trade Shows
ATTACH;FMTTYPE=image/png:https://pemequip.com/wp-content/uploads/2018/10/download.png
END:VEVENT
END:VCALENDAR