BEGIN:VCALENDAR
VERSION:2.0
PRODID:-//PEM Incorporated - ECPv6.15.20//NONSGML v1.0//EN
CALSCALE:GREGORIAN
METHOD:PUBLISH
X-ORIGINAL-URL:https://pemequip.com
X-WR-CALDESC:Events for PEM Incorporated
REFRESH-INTERVAL;VALUE=DURATION:PT1H
X-Robots-Tag:noindex
X-PUBLISHED-TTL:PT1H
BEGIN:VTIMEZONE
TZID:America/New_York
BEGIN:DAYLIGHT
TZOFFSETFROM:-0500
TZOFFSETTO:-0400
TZNAME:EDT
DTSTART:20190310T070000
END:DAYLIGHT
BEGIN:STANDARD
TZOFFSETFROM:-0400
TZOFFSETTO:-0500
TZNAME:EST
DTSTART:20191103T060000
END:STANDARD
BEGIN:DAYLIGHT
TZOFFSETFROM:-0500
TZOFFSETTO:-0400
TZNAME:EDT
DTSTART:20200308T070000
END:DAYLIGHT
BEGIN:STANDARD
TZOFFSETFROM:-0400
TZOFFSETTO:-0500
TZNAME:EST
DTSTART:20201101T060000
END:STANDARD
BEGIN:DAYLIGHT
TZOFFSETFROM:-0500
TZOFFSETTO:-0400
TZNAME:EDT
DTSTART:20210314T070000
END:DAYLIGHT
BEGIN:STANDARD
TZOFFSETFROM:-0400
TZOFFSETTO:-0500
TZNAME:EST
DTSTART:20211107T060000
END:STANDARD
END:VTIMEZONE
BEGIN:VEVENT
DTSTART;TZID=America/New_York:20201118T100000
DTEND;TZID=America/New_York:20201120T150000
DTSTAMP:20260423T043506
CREATED:20200210T160955Z
LAST-MODIFIED:20200210T162507Z
UID:4982-1605693600-1605884400@pemequip.com
SUMMARY:FABTECH 2020
DESCRIPTION:North America’s largest metal forming\, fabricating\, welding and finishing event heads to Las Vegas. FABTECH provides a convenient ‘one stop shop’ venue where you can meet with world-class suppliers\, see the latest industry products and developments\, and find the tools to improve productivity\, increase profits and discover new solutions to all of your metal forming\, fabricating\, welding and finishing needs. \nWith emerging manufacturing trends and the introduction of disruptive technologies making their mark on the metal fabricating industry\, FABTECH 2020 will provide industry professionals with immediate access to the information\, technology and equipment they need to transform their businesses for success in the future. \nNorth America’s largest metal forming\, fabricating\, welding and finishing event will welcome more than 48\,000 attendees from around the world and over 1\,700 exhibiting companies to the Las Vegas Convention Center\, November 18 – 20\, 2020.
URL:https://pemequip.com/event/fabtech-2020/
LOCATION:Las Vegas Convention Center\, 3150 Paradise Road\, Las Vegas\, NV\, 89109\, United States
CATEGORIES:Trade Shows
ATTACH;FMTTYPE=image/jpeg:https://pemequip.com/wp-content/uploads/2020/02/FT18_CharlieCovert_09-768x512-1.jpg
END:VEVENT
END:VCALENDAR