BEGIN:VCALENDAR
VERSION:2.0
PRODID:-//PEM Incorporated - ECPv6.15.20//NONSGML v1.0//EN
CALSCALE:GREGORIAN
METHOD:PUBLISH
X-WR-CALNAME:PEM Incorporated
X-ORIGINAL-URL:https://pemequip.com
X-WR-CALDESC:Events for PEM Incorporated
REFRESH-INTERVAL;VALUE=DURATION:PT1H
X-Robots-Tag:noindex
X-PUBLISHED-TTL:PT1H
BEGIN:VTIMEZONE
TZID:America/New_York
BEGIN:DAYLIGHT
TZOFFSETFROM:-0500
TZOFFSETTO:-0400
TZNAME:EDT
DTSTART:20200308T070000
END:DAYLIGHT
BEGIN:STANDARD
TZOFFSETFROM:-0400
TZOFFSETTO:-0500
TZNAME:EST
DTSTART:20201101T060000
END:STANDARD
BEGIN:DAYLIGHT
TZOFFSETFROM:-0500
TZOFFSETTO:-0400
TZNAME:EDT
DTSTART:20210314T070000
END:DAYLIGHT
BEGIN:STANDARD
TZOFFSETFROM:-0400
TZOFFSETTO:-0500
TZNAME:EST
DTSTART:20211107T060000
END:STANDARD
BEGIN:DAYLIGHT
TZOFFSETFROM:-0500
TZOFFSETTO:-0400
TZNAME:EDT
DTSTART:20220313T070000
END:DAYLIGHT
BEGIN:STANDARD
TZOFFSETFROM:-0400
TZOFFSETTO:-0500
TZNAME:EST
DTSTART:20221106T060000
END:STANDARD
END:VTIMEZONE
BEGIN:VEVENT
DTSTART;TZID=America/New_York:20210713T080000
DTEND;TZID=America/New_York:20210716T170000
DTSTAMP:20260422T163821
CREATED:20210415T152834Z
LAST-MODIFIED:20210601T204406Z
UID:5120-1626163200-1626454800@pemequip.com
SUMMARY:Powder Coating Week 2021
DESCRIPTION:New Dates! Powder Coating Week 2021 will be July 13-16\, 2021. PCI’s Powder Coating Technical Conference has been offering outstanding education to the industry for the past 32 years! The technical conference features general sessions of interest to all powder coaters\, breakout sessions covering all aspects of powder coating and a tabletop exhibition\, allowing for networking\, learning and conversation with exhibitors and other powder coaters. This is your chance to learn about the latest innovations and explore all things powder coating! Review our keynote and breakout sessions in this brochure and register now! \nThis four day event will consist of three separate events: \n\nPowder Coating 101 Workshop: The Basics\nCustom Coater Forum\nPowder Coating 2021 Technical Conference + Exhibition\n\nLearn More | Download Brochure
URL:https://pemequip.com/event/powder-coating-week-2021/
LOCATION:Renaissance Orlando at SeaWorld®\, 6677 Sea Harbor Dr.\, Orlando\, FL\, 32821\, United States
CATEGORIES:Trade Shows
ATTACH;FMTTYPE=image/png:https://pemequip.com/wp-content/uploads/2018/10/download.png
END:VEVENT
END:VCALENDAR