BEGIN:VCALENDAR
VERSION:2.0
PRODID:-//PEM Incorporated - ECPv6.15.20//NONSGML v1.0//EN
CALSCALE:GREGORIAN
METHOD:PUBLISH
X-ORIGINAL-URL:https://pemequip.com
X-WR-CALDESC:Events for PEM Incorporated
REFRESH-INTERVAL;VALUE=DURATION:PT1H
X-Robots-Tag:noindex
X-PUBLISHED-TTL:PT1H
BEGIN:VTIMEZONE
TZID:America/New_York
BEGIN:DAYLIGHT
TZOFFSETFROM:-0500
TZOFFSETTO:-0400
TZNAME:EDT
DTSTART:20180311T070000
END:DAYLIGHT
BEGIN:STANDARD
TZOFFSETFROM:-0400
TZOFFSETTO:-0500
TZNAME:EST
DTSTART:20181104T060000
END:STANDARD
BEGIN:DAYLIGHT
TZOFFSETFROM:-0500
TZOFFSETTO:-0400
TZNAME:EDT
DTSTART:20190310T070000
END:DAYLIGHT
BEGIN:STANDARD
TZOFFSETFROM:-0400
TZOFFSETTO:-0500
TZNAME:EST
DTSTART:20191103T060000
END:STANDARD
BEGIN:DAYLIGHT
TZOFFSETFROM:-0500
TZOFFSETTO:-0400
TZNAME:EDT
DTSTART:20200308T070000
END:DAYLIGHT
BEGIN:STANDARD
TZOFFSETFROM:-0400
TZOFFSETTO:-0500
TZNAME:EST
DTSTART:20201101T060000
END:STANDARD
END:VTIMEZONE
BEGIN:VEVENT
DTSTART;TZID=America/New_York:20191105T080000
DTEND;TZID=America/New_York:20191108T140000
DTSTAMP:20260423T230107
CREATED:20181023T181341Z
LAST-MODIFIED:20190724T142018Z
UID:4595-1572940800-1573221600@pemequip.com
SUMMARY:2019 SEMA Show
DESCRIPTION:The SEMA Show is the premier automotive specialty products trade event in the world. It draws the industry’s brightest minds and hottest products to one place\, the Las Vegas Convention Center. In addition\, the SEMA Show provides attendees with educational seminars\, product demonstrations\, special events\, networking opportunities and more. \nPEM will feature FinFlow\, a complete start-to-finish system that easily allows you to easily set up shop\, add capacity or expand your services by delivering PEM’s sophisticated product expertise and equipment to your floor for cleaning\, coating and cooking. PEM Corporation will be at Booth #30307. \nThis show draws more than 70\,000 domestic and international buyers. The displays are segmented into 12 sections\, and a New Products Showcase featured nearly 3\,000 newly introduced parts\, tools and components. In addition\, the SEMA Show provides attendees with educational seminars\, product demonstrations\, special events\, networking opportunities and more. Learn More
URL:https://pemequip.com/event/2019-sema-show/
LOCATION:Las Vegas Convention Center\, 3150 Paradise Road\, Las Vegas\, NV\, 89109\, United States
CATEGORIES:Trade Shows
ATTACH;FMTTYPE=image/jpeg:https://pemequip.com/wp-content/uploads/2018/10/SEMA.jpg
END:VEVENT
BEGIN:VEVENT
DTSTART;TZID=America/New_York:20191111T100000
DTEND;TZID=America/New_York:20191113T150000
DTSTAMP:20260423T230107
CREATED:20190724T141751Z
LAST-MODIFIED:20200210T162334Z
UID:4948-1573466400-1573657200@pemequip.com
SUMMARY:FABTECH 2019
DESCRIPTION:North America’s largest metal forming\, fabricating\, welding and finishing event heads to Chicago. FABTECH provides a convenient ‘one stop shop’ venue where you can meet with world-class suppliers\, see the latest industry products and developments\, and find the tools to improve productivity\, increase profits and discover new solutions to all of your metal forming\, fabricating\, welding and finishing needs. \nWith emerging manufacturing trends and the introduction of disruptive technologies making their mark on the metal fabricating industry\, FABTECH 2019 will provide industry professionals with immediate access to the information\, technology and equipment they need to transform their businesses for success in the future. \nNorth America’s largest metal forming\, fabricating\, welding and finishing event will welcome more than 48\,000 attendees from around the world and over 1\,700 exhibiting companies to Chicago’s McCormick Place on November 11-14. \nPEM Corporation will be at Booth #B13059.
URL:https://pemequip.com/event/fabtech-2019/
LOCATION:McCormick Place\, 2301 S. Martin Luther King Drive\, Chicago\, IL\, 60616\, United States
ATTACH;FMTTYPE=image/jpeg:https://pemequip.com/wp-content/uploads/2019/07/images-1.jpg
END:VEVENT
END:VCALENDAR