BEGIN:VCALENDAR
VERSION:2.0
PRODID:-//PEM Incorporated - ECPv6.15.20//NONSGML v1.0//EN
CALSCALE:GREGORIAN
METHOD:PUBLISH
X-ORIGINAL-URL:https://pemequip.com
X-WR-CALDESC:Events for PEM Incorporated
REFRESH-INTERVAL;VALUE=DURATION:PT1H
X-Robots-Tag:noindex
X-PUBLISHED-TTL:PT1H
BEGIN:VTIMEZONE
TZID:America/New_York
BEGIN:DAYLIGHT
TZOFFSETFROM:-0500
TZOFFSETTO:-0400
TZNAME:EDT
DTSTART:20200308T070000
END:DAYLIGHT
BEGIN:STANDARD
TZOFFSETFROM:-0400
TZOFFSETTO:-0500
TZNAME:EST
DTSTART:20201101T060000
END:STANDARD
BEGIN:DAYLIGHT
TZOFFSETFROM:-0500
TZOFFSETTO:-0400
TZNAME:EDT
DTSTART:20210314T070000
END:DAYLIGHT
BEGIN:STANDARD
TZOFFSETFROM:-0400
TZOFFSETTO:-0500
TZNAME:EST
DTSTART:20211107T060000
END:STANDARD
BEGIN:DAYLIGHT
TZOFFSETFROM:-0500
TZOFFSETTO:-0400
TZNAME:EDT
DTSTART:20220313T070000
END:DAYLIGHT
BEGIN:STANDARD
TZOFFSETFROM:-0400
TZOFFSETTO:-0500
TZNAME:EST
DTSTART:20221106T060000
END:STANDARD
END:VTIMEZONE
BEGIN:VEVENT
DTSTART;TZID=America/New_York:20210913T080000
DTEND;TZID=America/New_York:20210916T150000
DTSTAMP:20260422T115931
CREATED:20210412T154222Z
LAST-MODIFIED:20210412T154226Z
UID:5045-1631520000-1631804400@pemequip.com
SUMMARY:FABTECH 2021
DESCRIPTION:North America’s largest metal forming\, fabricating\, welding and finishing event returns to McCormick Place September 13-16\, 2021. FABTECH provides a convenient ‘one-stop shop’ venue where you can meet with world-class suppliers\, see the latest industry products and developments\, find the tools to improve productivity\, and increase profits. We strongly believe in the power of in-person events to discover\, educate and motivate the metal fabrication industry. Learn More
URL:https://pemequip.com/event/fabtech-2021/
LOCATION:McCormick Place\, 2301 S. Martin Luther King Drive\, Chicago\, IL\, 60616\, United States
CATEGORIES:Trade Shows
ATTACH;FMTTYPE=image/jpeg:https://pemequip.com/wp-content/uploads/2021/04/Fabtech-2021-PEM-Pretreatment_Chemical_Application-Systems.jpg
END:VEVENT
END:VCALENDAR